BEGIN:VCALENDAR
VERSION:2.0
PRODID:-//Ekurhuleni Bowls - ECPv6.15.20//NONSGML v1.0//EN
CALSCALE:GREGORIAN
METHOD:PUBLISH
X-ORIGINAL-URL:https://www.ekurhulenibowls.co.za
X-WR-CALDESC:Events for Ekurhuleni Bowls
REFRESH-INTERVAL;VALUE=DURATION:PT1H
X-Robots-Tag:noindex
X-PUBLISHED-TTL:PT1H
BEGIN:VTIMEZONE
TZID:Europe/Helsinki
BEGIN:DAYLIGHT
TZOFFSETFROM:+0200
TZOFFSETTO:+0300
TZNAME:EEST
DTSTART:20230326T010000
END:DAYLIGHT
BEGIN:STANDARD
TZOFFSETFROM:+0300
TZOFFSETTO:+0200
TZNAME:EET
DTSTART:20231029T010000
END:STANDARD
BEGIN:DAYLIGHT
TZOFFSETFROM:+0200
TZOFFSETTO:+0300
TZNAME:EEST
DTSTART:20240331T010000
END:DAYLIGHT
BEGIN:STANDARD
TZOFFSETFROM:+0300
TZOFFSETTO:+0200
TZNAME:EET
DTSTART:20241027T010000
END:STANDARD
BEGIN:DAYLIGHT
TZOFFSETFROM:+0200
TZOFFSETTO:+0300
TZNAME:EEST
DTSTART:20250330T010000
END:DAYLIGHT
BEGIN:STANDARD
TZOFFSETFROM:+0300
TZOFFSETTO:+0200
TZNAME:EET
DTSTART:20251026T010000
END:STANDARD
BEGIN:DAYLIGHT
TZOFFSETFROM:+0200
TZOFFSETTO:+0300
TZNAME:EEST
DTSTART:20260329T010000
END:DAYLIGHT
BEGIN:STANDARD
TZOFFSETFROM:+0300
TZOFFSETTO:+0200
TZNAME:EET
DTSTART:20261025T010000
END:STANDARD
END:VTIMEZONE
BEGIN:VEVENT
DTSTART;VALUE=DATE:20250315
DTEND;VALUE=DATE:20250317
DTSTAMP:20260420T045015
CREATED:20241014T081158Z
LAST-MODIFIED:20241014T081158Z
UID:3854-1741996800-1742169599@www.ekurhulenibowls.co.za
SUMMARY:DSCTO Level One Course
DESCRIPTION:
URL:https://www.ekurhulenibowls.co.za/event/dscto-level-one-course/
CATEGORIES:Tour Off Course
END:VEVENT
BEGIN:VEVENT
DTSTART;VALUE=DATE:20250308
DTEND;VALUE=DATE:20250309
DTSTAMP:20260420T045015
CREATED:20241014T080802Z
LAST-MODIFIED:20241014T080802Z
UID:3848-1741392000-1741478399@www.ekurhulenibowls.co.za
SUMMARY:GO BIG 6 KPBC
DESCRIPTION:
URL:https://www.ekurhulenibowls.co.za/event/go-big-6-kpbc/
CATEGORIES:GO BIG 6 KPBC
END:VEVENT
BEGIN:VEVENT
DTSTART;VALUE=DATE:20250305
DTEND;VALUE=DATE:20250306
DTSTAMP:20260420T045015
CREATED:20241014T080513Z
LAST-MODIFIED:20241014T080513Z
UID:3845-1741132800-1741219199@www.ekurhulenibowls.co.za
SUMMARY:EKB Midweek League Final
DESCRIPTION:2025 EKB Midweek League – Ekurhuleni Bowls
URL:https://www.ekurhulenibowls.co.za/event/ekb-midweek-league-final/
CATEGORIES:EKB Midweek League
END:VEVENT
BEGIN:VEVENT
DTSTART;VALUE=DATE:20250303
DTEND;VALUE=DATE:20250304
DTSTAMP:20260420T045015
CREATED:20241014T080334Z
LAST-MODIFIED:20241014T080334Z
UID:3843-1740960000-1741046399@www.ekurhulenibowls.co.za
SUMMARY:Trips Entries Close
DESCRIPTION:
URL:https://www.ekurhulenibowls.co.za/event/trips-entries-close/
CATEGORIES:EKB Trips
END:VEVENT
BEGIN:VEVENT
DTSTART;VALUE=DATE:20250302
DTEND;VALUE=DATE:20250303
DTSTAMP:20260420T045015
CREATED:20241014T080233Z
LAST-MODIFIED:20241014T080233Z
UID:3841-1740873600-1740959999@www.ekurhulenibowls.co.za
SUMMARY:EKB Juniors Fundraiser
DESCRIPTION:
URL:https://www.ekurhulenibowls.co.za/event/ekb-juniors-fundraiser/
CATEGORIES:EKB Rose Bowl/ Fellowship Day ( Fundraiser)
END:VEVENT
BEGIN:VEVENT
DTSTART;TZID=Europe/Helsinki:20250301T083000
DTEND;TZID=Europe/Helsinki:20250301T123000
DTSTAMP:20260420T045015
CREATED:20241014T075745Z
LAST-MODIFIED:20241014T075745Z
UID:3839-1740817800-1740832200@www.ekurhulenibowls.co.za
SUMMARY:EKB Academy
DESCRIPTION:
URL:https://www.ekurhulenibowls.co.za/event/ekb-academy-10/
CATEGORIES:EKB Academy
END:VEVENT
BEGIN:VEVENT
DTSTART;TZID=Europe/Helsinki:20250226T083000
DTEND;TZID=Europe/Helsinki:20250226T130000
DTSTAMP:20260420T045015
CREATED:20241014T075620Z
LAST-MODIFIED:20241014T075620Z
UID:3837-1740558600-1740574800@www.ekurhulenibowls.co.za
SUMMARY:EKB Midweek League R10
DESCRIPTION:2025 EKB Midweek League – Ekurhuleni Bowls
URL:https://www.ekurhulenibowls.co.za/event/ekb-midweek-league-r10/
CATEGORIES:EKB Midweek League
END:VEVENT
BEGIN:VEVENT
DTSTART;VALUE=DATE:20250223
DTEND;VALUE=DATE:20250224
DTSTAMP:20260420T045015
CREATED:20241014T075429Z
LAST-MODIFIED:20241014T075429Z
UID:3835-1740268800-1740355199@www.ekurhulenibowls.co.za
SUMMARY:EKB Fellowship Day (Mens Fundraiser)
DESCRIPTION:
URL:https://www.ekurhulenibowls.co.za/event/ekb-fellowship-day-mens-fundraiser/
CATEGORIES:EKB Rose Bowl/ Fellowship Day ( Fundraiser)
END:VEVENT
BEGIN:VEVENT
DTSTART;TZID=Europe/Helsinki:20250222T130000
DTEND;TZID=Europe/Helsinki:20250222T173000
DTSTAMP:20260420T045015
CREATED:20241014T075221Z
LAST-MODIFIED:20241014T075221Z
UID:3833-1740229200-1740245400@www.ekurhulenibowls.co.za
SUMMARY:EKB Saturday League Finals
DESCRIPTION:2025 EKB Saturday League – Ekurhuleni Bowls
URL:https://www.ekurhulenibowls.co.za/event/ekb-saturday-league-finals/
CATEGORIES:EKB Saturday League
END:VEVENT
BEGIN:VEVENT
DTSTART;TZID=Europe/Helsinki:20250222T080000
DTEND;TZID=Europe/Helsinki:20250222T123000
DTSTAMP:20260420T045015
CREATED:20241014T075113Z
LAST-MODIFIED:20241014T075113Z
UID:3831-1740211200-1740227400@www.ekurhulenibowls.co.za
SUMMARY:EKB Council Meeting
DESCRIPTION:
URL:https://www.ekurhulenibowls.co.za/event/ekb-council-meeting-2/
CATEGORIES:Ekurhuleni Bowls
END:VEVENT
BEGIN:VEVENT
DTSTART;TZID=Europe/Helsinki:20250219T083000
DTEND;TZID=Europe/Helsinki:20250219T130000
DTSTAMP:20260420T045015
CREATED:20241014T075006Z
LAST-MODIFIED:20241014T075006Z
UID:3829-1739953800-1739970000@www.ekurhulenibowls.co.za
SUMMARY:Midweek League R9
DESCRIPTION:2025 EKB Midweek League – Ekurhuleni Bowls
URL:https://www.ekurhulenibowls.co.za/event/midweek-league-r9/
CATEGORIES:EKB Midweek League
END:VEVENT
BEGIN:VEVENT
DTSTART;VALUE=DATE:20250216
DTEND;VALUE=DATE:20250217
DTSTAMP:20260420T045015
CREATED:20241014T074832Z
LAST-MODIFIED:20241014T074832Z
UID:3827-1739664000-1739750399@www.ekurhulenibowls.co.za
SUMMARY:EKB Mixed Fours Finals
DESCRIPTION:2025 EKB Mix Fours – Ekurhuleni Bowls
URL:https://www.ekurhulenibowls.co.za/event/ekb-mixed-fours-finals/
CATEGORIES:EKB Fours
END:VEVENT
BEGIN:VEVENT
DTSTART;TZID=Europe/Helsinki:20250215T130000
DTEND;TZID=Europe/Helsinki:20250215T173000
DTSTAMP:20260420T045015
CREATED:20241014T074727Z
LAST-MODIFIED:20241014T074727Z
UID:3825-1739624400-1739640600@www.ekurhulenibowls.co.za
SUMMARY:EKB Saturday League R10
DESCRIPTION:2025 EKB Saturday League – Ekurhuleni Bowls
URL:https://www.ekurhulenibowls.co.za/event/ekb-saturday-league-r10/
CATEGORIES:EKB Saturday League
END:VEVENT
BEGIN:VEVENT
DTSTART;TZID=Europe/Helsinki:20250215T083000
DTEND;TZID=Europe/Helsinki:20250215T123000
DTSTAMP:20260420T045015
CREATED:20241014T074622Z
LAST-MODIFIED:20241014T074622Z
UID:3823-1739608200-1739622600@www.ekurhulenibowls.co.za
SUMMARY:EKB Academy
DESCRIPTION:
URL:https://www.ekurhulenibowls.co.za/event/ekb-academy-9/
CATEGORIES:EKB Academy
END:VEVENT
BEGIN:VEVENT
DTSTART;TZID=Europe/Helsinki:20250212T083000
DTEND;TZID=Europe/Helsinki:20250212T130000
DTSTAMP:20260420T045015
CREATED:20241014T074530Z
LAST-MODIFIED:20241014T074530Z
UID:3821-1739349000-1739365200@www.ekurhulenibowls.co.za
SUMMARY:EKB Midweek League R8
DESCRIPTION:2025 EKB Midweek League – Ekurhuleni Bowls
URL:https://www.ekurhulenibowls.co.za/event/ekb-midweek-league-r8/
CATEGORIES:EKB Midweek League
END:VEVENT
BEGIN:VEVENT
DTSTART;TZID=Europe/Helsinki:20250205T083000
DTEND;TZID=Europe/Helsinki:20250205T130000
DTSTAMP:20260420T045015
CREATED:20241014T074335Z
LAST-MODIFIED:20241014T074335Z
UID:3817-1738744200-1738760400@www.ekurhulenibowls.co.za
SUMMARY:EKB Midweek League R7
DESCRIPTION:2025 EKB Midweek League – Ekurhuleni Bowls
URL:https://www.ekurhulenibowls.co.za/event/ekb-midweek-league-r7/
CATEGORIES:EKB Midweek League
END:VEVENT
BEGIN:VEVENT
DTSTART;VALUE=DATE:20250202
DTEND;VALUE=DATE:20250203
DTSTAMP:20260420T045015
CREATED:20241014T074111Z
LAST-MODIFIED:20241014T074111Z
UID:3814-1738454400-1738540799@www.ekurhulenibowls.co.za
SUMMARY:EKB Mixed Fours Playoffs
DESCRIPTION:2025 EKB Mix Fours – Ekurhuleni Bowls
URL:https://www.ekurhulenibowls.co.za/event/ekb-mixed-fours-playoffs/
CATEGORIES:EKB Fours
END:VEVENT
BEGIN:VEVENT
DTSTART;TZID=Europe/Helsinki:20250201T130000
DTEND;TZID=Europe/Helsinki:20250201T173000
DTSTAMP:20260420T045015
CREATED:20241014T073958Z
LAST-MODIFIED:20241014T073958Z
UID:3812-1738414800-1738431000@www.ekurhulenibowls.co.za
SUMMARY:EKB Saturday League R9
DESCRIPTION:2025 EKB Saturday League – Ekurhuleni Bowls
URL:https://www.ekurhulenibowls.co.za/event/ekb-saturday-league-r9/
CATEGORIES:EKB Saturday League
END:VEVENT
BEGIN:VEVENT
DTSTART;TZID=Europe/Helsinki:20250201T083000
DTEND;TZID=Europe/Helsinki:20250201T123000
DTSTAMP:20260420T045015
CREATED:20241014T073839Z
LAST-MODIFIED:20241014T073839Z
UID:3810-1738398600-1738413000@www.ekurhulenibowls.co.za
SUMMARY:EKB Academy
DESCRIPTION:
URL:https://www.ekurhulenibowls.co.za/event/ekb-academy-8/
CATEGORIES:EKB Academy
END:VEVENT
BEGIN:VEVENT
DTSTART;TZID=Europe/Helsinki:20250129T083000
DTEND;TZID=Europe/Helsinki:20250129T130000
DTSTAMP:20260420T045015
CREATED:20241014T072223Z
LAST-MODIFIED:20241014T072223Z
UID:3808-1738139400-1738155600@www.ekurhulenibowls.co.za
SUMMARY:EKB Midweek League R6
DESCRIPTION:2025 EKB Midweek League – Ekurhuleni Bowls
URL:https://www.ekurhulenibowls.co.za/event/ekb-midweek-league-r6/
CATEGORIES:EKB Midweek League
END:VEVENT
BEGIN:VEVENT
DTSTART;VALUE=DATE:20250126
DTEND;VALUE=DATE:20250127
DTSTAMP:20260420T045015
CREATED:20241014T072005Z
LAST-MODIFIED:20241014T072005Z
UID:3805-1737849600-1737935999@www.ekurhulenibowls.co.za
SUMMARY:EKB Mixed Fours Round Robin
DESCRIPTION:2025 EKB Mix Fours – Ekurhuleni Bowls
URL:https://www.ekurhulenibowls.co.za/event/ekb-mixed-fours-round-robin/
CATEGORIES:EKB Fours
END:VEVENT
BEGIN:VEVENT
DTSTART;TZID=Europe/Helsinki:20250125T130000
DTEND;TZID=Europe/Helsinki:20250125T173000
DTSTAMP:20260420T045015
CREATED:20241014T071845Z
LAST-MODIFIED:20241014T071845Z
UID:3802-1737810000-1737826200@www.ekurhulenibowls.co.za
SUMMARY:EKB Saturday League R8
DESCRIPTION:2025 EKB Saturday League – Ekurhuleni Bowls
URL:https://www.ekurhulenibowls.co.za/event/ekb-saturday-league-r8/
CATEGORIES:EKB Saturday League
END:VEVENT
BEGIN:VEVENT
DTSTART;TZID=Europe/Helsinki:20250125T083000
DTEND;TZID=Europe/Helsinki:20250125T123000
DTSTAMP:20260420T045015
CREATED:20241014T071717Z
LAST-MODIFIED:20241014T071717Z
UID:3800-1737793800-1737808200@www.ekurhulenibowls.co.za
SUMMARY:EKB Academy
DESCRIPTION:
URL:https://www.ekurhulenibowls.co.za/event/ekb-academy-7/
CATEGORIES:EKB Academy
END:VEVENT
BEGIN:VEVENT
DTSTART;TZID=Europe/Helsinki:20250122T083000
DTEND;TZID=Europe/Helsinki:20250122T130000
DTSTAMP:20260420T045015
CREATED:20241014T071612Z
LAST-MODIFIED:20241014T071612Z
UID:3798-1737534600-1737550800@www.ekurhulenibowls.co.za
SUMMARY:EKB Midweek League R5
DESCRIPTION:2025 EKB Midweek League – Ekurhuleni Bowls
URL:https://www.ekurhulenibowls.co.za/event/ekb-midweek-league-r5/
CATEGORIES:EKB Midweek League
END:VEVENT
BEGIN:VEVENT
DTSTART;TZID=Europe/Helsinki:20250115T083000
DTEND;TZID=Europe/Helsinki:20250115T130000
DTSTAMP:20260420T045015
CREATED:20241014T071201Z
LAST-MODIFIED:20241014T071201Z
UID:3793-1736929800-1736946000@www.ekurhulenibowls.co.za
SUMMARY:EKB Midweek League R4
DESCRIPTION:2025 EKB Midweek League – Ekurhuleni Bowls
URL:https://www.ekurhulenibowls.co.za/event/ekb-midweek-league-r4/
CATEGORIES:EKB Midweek League
END:VEVENT
BEGIN:VEVENT
DTSTART;VALUE=DATE:20250113
DTEND;VALUE=DATE:20250114
DTSTAMP:20260420T045015
CREATED:20241014T070930Z
LAST-MODIFIED:20241014T070930Z
UID:3791-1736726400-1736812799@www.ekurhulenibowls.co.za
SUMMARY:Mixed Fours Entries Close
DESCRIPTION:
URL:https://www.ekurhulenibowls.co.za/event/mixed-fours-entries-close/
CATEGORIES:EKB Fours
END:VEVENT
BEGIN:VEVENT
DTSTART;TZID=Europe/Helsinki:20250111T080000
DTEND;TZID=Europe/Helsinki:20250111T123000
DTSTAMP:20260420T045015
CREATED:20241014T070649Z
LAST-MODIFIED:20241014T070649Z
UID:3787-1736582400-1736598600@www.ekurhulenibowls.co.za
SUMMARY:EKB Academy
DESCRIPTION:
URL:https://www.ekurhulenibowls.co.za/event/ekb-academy-6/
CATEGORIES:EKB Academy
END:VEVENT
BEGIN:VEVENT
DTSTART;TZID=Europe/Helsinki:20241207T130000
DTEND;TZID=Europe/Helsinki:20241207T173000
DTSTAMP:20260420T045015
CREATED:20241014T065955Z
LAST-MODIFIED:20241014T065955Z
UID:3777-1733576400-1733592600@www.ekurhulenibowls.co.za
SUMMARY:EKB Saturday League R7
DESCRIPTION:2025 EKB Saturday League – Ekurhuleni Bowls
URL:https://www.ekurhulenibowls.co.za/event/ekb-saturday-league-r7/
CATEGORIES:EKB Saturday League
END:VEVENT
BEGIN:VEVENT
DTSTART;TZID=Europe/Helsinki:20241207T083000
DTEND;TZID=Europe/Helsinki:20241207T130000
DTSTAMP:20260420T045015
CREATED:20241014T065755Z
LAST-MODIFIED:20241014T065755Z
UID:3775-1733560200-1733576400@www.ekurhulenibowls.co.za
SUMMARY:EKB Academy
DESCRIPTION:
URL:https://www.ekurhulenibowls.co.za/event/ekb-academy-5/
CATEGORIES:EKB Academy
END:VEVENT
BEGIN:VEVENT
DTSTART;TZID=Europe/Helsinki:20241204T083000
DTEND;TZID=Europe/Helsinki:20241204T130000
DTSTAMP:20260420T045015
CREATED:20241014T065631Z
LAST-MODIFIED:20241014T065631Z
UID:3773-1733301000-1733317200@www.ekurhulenibowls.co.za
SUMMARY:EKB Midweek League R3
DESCRIPTION:2025 EKB Midweek League – Ekurhuleni Bowls
URL:https://www.ekurhulenibowls.co.za/event/ekb-midweek-league-r3/
CATEGORIES:EKB Midweek League
END:VEVENT
END:VCALENDAR