BEGIN:VCALENDAR
VERSION:2.0
PRODID:-//Ekurhuleni Bowls - ECPv6.15.20//NONSGML v1.0//EN
CALSCALE:GREGORIAN
METHOD:PUBLISH
X-ORIGINAL-URL:https://www.ekurhulenibowls.co.za
X-WR-CALDESC:Events for Ekurhuleni Bowls
REFRESH-INTERVAL;VALUE=DURATION:PT1H
X-Robots-Tag:noindex
X-PUBLISHED-TTL:PT1H
BEGIN:VTIMEZONE
TZID:Europe/Helsinki
BEGIN:DAYLIGHT
TZOFFSETFROM:+0200
TZOFFSETTO:+0300
TZNAME:EEST
DTSTART:20240331T010000
END:DAYLIGHT
BEGIN:STANDARD
TZOFFSETFROM:+0300
TZOFFSETTO:+0200
TZNAME:EET
DTSTART:20241027T010000
END:STANDARD
BEGIN:DAYLIGHT
TZOFFSETFROM:+0200
TZOFFSETTO:+0300
TZNAME:EEST
DTSTART:20250330T010000
END:DAYLIGHT
BEGIN:STANDARD
TZOFFSETFROM:+0300
TZOFFSETTO:+0200
TZNAME:EET
DTSTART:20251026T010000
END:STANDARD
BEGIN:DAYLIGHT
TZOFFSETFROM:+0200
TZOFFSETTO:+0300
TZNAME:EEST
DTSTART:20260329T010000
END:DAYLIGHT
BEGIN:STANDARD
TZOFFSETFROM:+0300
TZOFFSETTO:+0200
TZNAME:EET
DTSTART:20261025T010000
END:STANDARD
END:VTIMEZONE
BEGIN:VEVENT
DTSTART;VALUE=DATE:20250906
DTEND;VALUE=DATE:20250908
DTSTAMP:20260420T020659
CREATED:20241014T092225Z
LAST-MODIFIED:20250930T125421Z
UID:3952-1757116800-1757289599@www.ekurhulenibowls.co.za
SUMMARY:EKB Champion of Champions KPBC
DESCRIPTION:
URL:https://www.ekurhulenibowls.co.za/event/ekb-champion-of-champions-kpbc/
CATEGORIES:EKB Champion of Champions KPBC
END:VEVENT
BEGIN:VEVENT
DTSTART;VALUE=DATE:20250901
DTEND;VALUE=DATE:20250902
DTSTAMP:20260420T020659
CREATED:20241014T092028Z
LAST-MODIFIED:20241014T092028Z
UID:3950-1756684800-1756771199@www.ekurhulenibowls.co.za
SUMMARY:Pro 10 Entries Close
DESCRIPTION:
URL:https://www.ekurhulenibowls.co.za/event/pro-10-entries-close/
CATEGORIES:EKB Pro 10
END:VEVENT
BEGIN:VEVENT
DTSTART;VALUE=DATE:20250830
DTEND;VALUE=DATE:20250901
DTSTAMP:20260420T020659
CREATED:20241014T091827Z
LAST-MODIFIED:20241014T091827Z
UID:3944-1756512000-1756684799@www.ekurhulenibowls.co.za
SUMMARY:EKB Masters
DESCRIPTION:
URL:https://www.ekurhulenibowls.co.za/event/ekb-masters/
CATEGORIES:EKB Masters
END:VEVENT
BEGIN:VEVENT
DTSTART;VALUE=DATE:20250824
DTEND;VALUE=DATE:20250825
DTSTAMP:20260420T020659
CREATED:20241014T091739Z
LAST-MODIFIED:20241014T091739Z
UID:3942-1755993600-1756079999@www.ekurhulenibowls.co.za
SUMMARY:EKB U30 Fundraiser
DESCRIPTION:
URL:https://www.ekurhulenibowls.co.za/event/ekb-u30-fundraiser/
CATEGORIES:EKB Rose Bowl/ Fellowship Day ( Fundraiser)
END:VEVENT
BEGIN:VEVENT
DTSTART;VALUE=DATE:20250816
DTEND;VALUE=DATE:20250818
DTSTAMP:20260420T020659
CREATED:20241014T091541Z
LAST-MODIFIED:20241014T091541Z
UID:3938-1755302400-1755475199@www.ekurhulenibowls.co.za
SUMMARY:EKB Presidents Invitational
DESCRIPTION:
URL:https://www.ekurhulenibowls.co.za/event/ekb-presidents-invitational/
CATEGORIES:EKB Presidents
END:VEVENT
BEGIN:VEVENT
DTSTART;VALUE=DATE:20250802
DTEND;VALUE=DATE:20250804
DTSTAMP:20260420T020659
CREATED:20241014T091323Z
LAST-MODIFIED:20241014T091323Z
UID:3932-1754092800-1754265599@www.ekurhulenibowls.co.za
SUMMARY:EKB Junior Presidents Invitational
DESCRIPTION:
URL:https://www.ekurhulenibowls.co.za/event/ekb-junior-presidents-invitational/
CATEGORIES:EKB Presidents
END:VEVENT
BEGIN:VEVENT
DTSTART;VALUE=DATE:20250622
DTEND;VALUE=DATE:20250623
DTSTAMP:20260420T020659
CREATED:20241014T090505Z
LAST-MODIFIED:20241014T090505Z
UID:3914-1750550400-1750636799@www.ekurhulenibowls.co.za
SUMMARY:EKB Singles Finals
DESCRIPTION:
URL:https://www.ekurhulenibowls.co.za/event/ekb-singles-finals/
CATEGORIES:EKB Singles
END:VEVENT
BEGIN:VEVENT
DTSTART;TZID=Europe/Helsinki:20250621T083000
DTEND;TZID=Europe/Helsinki:20250621T123000
DTSTAMP:20260420T020659
CREATED:20241014T090421Z
LAST-MODIFIED:20241014T090421Z
UID:3912-1750494600-1750509000@www.ekurhulenibowls.co.za
SUMMARY:EKB Academy
DESCRIPTION:
URL:https://www.ekurhulenibowls.co.za/event/ekb-academy-12/
CATEGORIES:EKB Academy
END:VEVENT
BEGIN:VEVENT
DTSTART;VALUE=DATE:20250608
DTEND;VALUE=DATE:20250609
DTSTAMP:20260420T020659
CREATED:20241014T090255Z
LAST-MODIFIED:20241014T090255Z
UID:3908-1749340800-1749427199@www.ekurhulenibowls.co.za
SUMMARY:EKB Singles Playoffs
DESCRIPTION:
URL:https://www.ekurhulenibowls.co.za/event/ekb-singles-playoffs/
CATEGORIES:EKB Singles
END:VEVENT
BEGIN:VEVENT
DTSTART;VALUE=DATE:20250607
DTEND;VALUE=DATE:20250608
DTSTAMP:20260420T020659
CREATED:20241014T090127Z
LAST-MODIFIED:20241014T090127Z
UID:3906-1749254400-1749340799@www.ekurhulenibowls.co.za
SUMMARY:EKB Singles Round Robin
DESCRIPTION:
URL:https://www.ekurhulenibowls.co.za/event/ekb-singles-round-robin/
CATEGORIES:EKB Singles
END:VEVENT
BEGIN:VEVENT
DTSTART;VALUE=DATE:20250601
DTEND;VALUE=DATE:20250602
DTSTAMP:20260420T020659
CREATED:20241014T090032Z
LAST-MODIFIED:20241014T090032Z
UID:3904-1748736000-1748822399@www.ekurhulenibowls.co.za
SUMMARY:EKB Mixed Pairs Finals
DESCRIPTION:
URL:https://www.ekurhulenibowls.co.za/event/ekb-mixed-pairs-finals/
CATEGORIES:EKB Pairs
END:VEVENT
BEGIN:VEVENT
DTSTART;VALUE=DATE:20250531
DTEND;VALUE=DATE:20250601
DTSTAMP:20260420T020659
CREATED:20241014T085938Z
LAST-MODIFIED:20241014T085938Z
UID:3902-1748649600-1748735999@www.ekurhulenibowls.co.za
SUMMARY:EKB Mixed Pairs Playoffs
DESCRIPTION:
URL:https://www.ekurhulenibowls.co.za/event/ekb-mixed-pairs-playoffs/
CATEGORIES:EKB Pairs
END:VEVENT
BEGIN:VEVENT
DTSTART;VALUE=DATE:20250526
DTEND;VALUE=DATE:20250527
DTSTAMP:20260420T020659
CREATED:20241014T085853Z
LAST-MODIFIED:20241014T085853Z
UID:3900-1748217600-1748303999@www.ekurhulenibowls.co.za
SUMMARY:Singles Entries Close
DESCRIPTION:
URL:https://www.ekurhulenibowls.co.za/event/singles-entries-close/
CATEGORIES:EKB Singles
END:VEVENT
BEGIN:VEVENT
DTSTART;VALUE=DATE:20250525
DTEND;VALUE=DATE:20250526
DTSTAMP:20260420T020659
CREATED:20241014T085814Z
LAST-MODIFIED:20241014T085814Z
UID:3898-1748131200-1748217599@www.ekurhulenibowls.co.za
SUMMARY:EKB Mixed Pairs Round Robin
DESCRIPTION:
URL:https://www.ekurhulenibowls.co.za/event/ekb-mixed-pairs-round-robin/
CATEGORIES:EKB Pairs
END:VEVENT
BEGIN:VEVENT
DTSTART;TZID=Europe/Helsinki:20250524T080000
DTEND;TZID=Europe/Helsinki:20250524T123000
DTSTAMP:20260420T020659
CREATED:20241014T085639Z
LAST-MODIFIED:20241014T085639Z
UID:3894-1748073600-1748089800@www.ekurhulenibowls.co.za
SUMMARY:EKB Council Meeting
DESCRIPTION:
URL:https://www.ekurhulenibowls.co.za/event/ekb-council-meeting-3/
CATEGORIES:EKB Committee
END:VEVENT
BEGIN:VEVENT
DTSTART;VALUE=DATE:20250524
DTEND;VALUE=DATE:20250525
DTSTAMP:20260420T020659
CREATED:20241014T085731Z
LAST-MODIFIED:20241014T085731Z
UID:3896-1748044800-1748131199@www.ekurhulenibowls.co.za
SUMMARY:EKB Pairs Final
DESCRIPTION:
URL:https://www.ekurhulenibowls.co.za/event/ekb-pairs-final/
CATEGORIES:EKB Pairs
END:VEVENT
BEGIN:VEVENT
DTSTART;VALUE=DATE:20250518
DTEND;VALUE=DATE:20250519
DTSTAMP:20260420T020659
CREATED:20241014T085439Z
LAST-MODIFIED:20241014T085439Z
UID:3890-1747526400-1747612799@www.ekurhulenibowls.co.za
SUMMARY:EKB Pairs Playoffs
DESCRIPTION:
URL:https://www.ekurhulenibowls.co.za/event/ekb-pairs-playoffs/
CATEGORIES:EKB Pairs
END:VEVENT
BEGIN:VEVENT
DTSTART;VALUE=DATE:20250517
DTEND;VALUE=DATE:20250518
DTSTAMP:20260420T020659
CREATED:20241014T085402Z
LAST-MODIFIED:20241014T085402Z
UID:3888-1747440000-1747526399@www.ekurhulenibowls.co.za
SUMMARY:EKB Pairs Round Robin
DESCRIPTION:
URL:https://www.ekurhulenibowls.co.za/event/ekb-pairs-round-robin/
CATEGORIES:EKB Pairs
END:VEVENT
BEGIN:VEVENT
DTSTART;VALUE=DATE:20250512
DTEND;VALUE=DATE:20250513
DTSTAMP:20260420T020659
CREATED:20241014T085230Z
LAST-MODIFIED:20241014T085230Z
UID:3886-1747008000-1747094399@www.ekurhulenibowls.co.za
SUMMARY:MXP Entries Close
DESCRIPTION:
URL:https://www.ekurhulenibowls.co.za/event/mxp-entries-close/
CATEGORIES:EKB Pairs
END:VEVENT
BEGIN:VEVENT
DTSTART;VALUE=DATE:20250429
DTEND;VALUE=DATE:20250430
DTSTAMP:20260420T020659
CREATED:20241014T082611Z
LAST-MODIFIED:20241014T082611Z
UID:3880-1745884800-1745971199@www.ekurhulenibowls.co.za
SUMMARY:Pairs Entries Close
DESCRIPTION:
URL:https://www.ekurhulenibowls.co.za/event/pairs-entries-close/
CATEGORIES:EKB Pairs
END:VEVENT
BEGIN:VEVENT
DTSTART;VALUE=DATE:20250323
DTEND;VALUE=DATE:20250324
DTSTAMP:20260420T020659
CREATED:20241014T081602Z
LAST-MODIFIED:20241014T081602Z
UID:3862-1742688000-1742774399@www.ekurhulenibowls.co.za
SUMMARY:EKB Trips Finals
DESCRIPTION:
URL:https://www.ekurhulenibowls.co.za/event/ekb-trips-finals/
CATEGORIES:EKB Trips
END:VEVENT
BEGIN:VEVENT
DTSTART;VALUE=DATE:20250322
DTEND;VALUE=DATE:20250323
DTSTAMP:20260420T020659
CREATED:20241014T081503Z
LAST-MODIFIED:20241014T081503Z
UID:3860-1742601600-1742687999@www.ekurhulenibowls.co.za
SUMMARY:EKB Trips Playoffs
DESCRIPTION:
URL:https://www.ekurhulenibowls.co.za/event/ekb-trips-playoffs/
CATEGORIES:EKB Trips
END:VEVENT
BEGIN:VEVENT
DTSTART;VALUE=DATE:20250321
DTEND;VALUE=DATE:20250322
DTSTAMP:20260420T020659
CREATED:20241014T081425Z
LAST-MODIFIED:20241014T081425Z
UID:3858-1742515200-1742601599@www.ekurhulenibowls.co.za
SUMMARY:EKB Trips RR
DESCRIPTION:
URL:https://www.ekurhulenibowls.co.za/event/ekb-trips-rr/
CATEGORIES:EKB Trips
END:VEVENT
BEGIN:VEVENT
DTSTART;TZID=Europe/Helsinki:20250315T083000
DTEND;TZID=Europe/Helsinki:20250315T123000
DTSTAMP:20260420T020659
CREATED:20241014T081023Z
LAST-MODIFIED:20241014T081023Z
UID:3852-1742027400-1742041800@www.ekurhulenibowls.co.za
SUMMARY:EKB Academy
DESCRIPTION:
URL:https://www.ekurhulenibowls.co.za/event/ekb-academy-11/
CATEGORIES:EKB Academy
END:VEVENT
BEGIN:VEVENT
DTSTART;VALUE=DATE:20250315
DTEND;VALUE=DATE:20250317
DTSTAMP:20260420T020659
CREATED:20241014T081158Z
LAST-MODIFIED:20241014T081158Z
UID:3854-1741996800-1742169599@www.ekurhulenibowls.co.za
SUMMARY:DSCTO Level One Course
DESCRIPTION:
URL:https://www.ekurhulenibowls.co.za/event/dscto-level-one-course/
CATEGORIES:Tour Off Course
END:VEVENT
BEGIN:VEVENT
DTSTART;VALUE=DATE:20250308
DTEND;VALUE=DATE:20250309
DTSTAMP:20260420T020659
CREATED:20241014T080802Z
LAST-MODIFIED:20241014T080802Z
UID:3848-1741392000-1741478399@www.ekurhulenibowls.co.za
SUMMARY:GO BIG 6 KPBC
DESCRIPTION:
URL:https://www.ekurhulenibowls.co.za/event/go-big-6-kpbc/
CATEGORIES:GO BIG 6 KPBC
END:VEVENT
BEGIN:VEVENT
DTSTART;VALUE=DATE:20250305
DTEND;VALUE=DATE:20250306
DTSTAMP:20260420T020659
CREATED:20241014T080513Z
LAST-MODIFIED:20241014T080513Z
UID:3845-1741132800-1741219199@www.ekurhulenibowls.co.za
SUMMARY:EKB Midweek League Final
DESCRIPTION:2025 EKB Midweek League – Ekurhuleni Bowls
URL:https://www.ekurhulenibowls.co.za/event/ekb-midweek-league-final/
CATEGORIES:EKB Midweek League
END:VEVENT
BEGIN:VEVENT
DTSTART;VALUE=DATE:20250303
DTEND;VALUE=DATE:20250304
DTSTAMP:20260420T020659
CREATED:20241014T080334Z
LAST-MODIFIED:20241014T080334Z
UID:3843-1740960000-1741046399@www.ekurhulenibowls.co.za
SUMMARY:Trips Entries Close
DESCRIPTION:
URL:https://www.ekurhulenibowls.co.za/event/trips-entries-close/
CATEGORIES:EKB Trips
END:VEVENT
BEGIN:VEVENT
DTSTART;VALUE=DATE:20250302
DTEND;VALUE=DATE:20250303
DTSTAMP:20260420T020659
CREATED:20241014T080233Z
LAST-MODIFIED:20241014T080233Z
UID:3841-1740873600-1740959999@www.ekurhulenibowls.co.za
SUMMARY:EKB Juniors Fundraiser
DESCRIPTION:
URL:https://www.ekurhulenibowls.co.za/event/ekb-juniors-fundraiser/
CATEGORIES:EKB Rose Bowl/ Fellowship Day ( Fundraiser)
END:VEVENT
BEGIN:VEVENT
DTSTART;TZID=Europe/Helsinki:20250301T083000
DTEND;TZID=Europe/Helsinki:20250301T123000
DTSTAMP:20260420T020659
CREATED:20241014T075745Z
LAST-MODIFIED:20241014T075745Z
UID:3839-1740817800-1740832200@www.ekurhulenibowls.co.za
SUMMARY:EKB Academy
DESCRIPTION:
URL:https://www.ekurhulenibowls.co.za/event/ekb-academy-10/
CATEGORIES:EKB Academy
END:VEVENT
END:VCALENDAR