BEGIN:VCALENDAR
VERSION:2.0
PRODID:-//Ekurhuleni Bowls - ECPv6.15.20//NONSGML v1.0//EN
CALSCALE:GREGORIAN
METHOD:PUBLISH
X-ORIGINAL-URL:https://www.ekurhulenibowls.co.za
X-WR-CALDESC:Events for Ekurhuleni Bowls
REFRESH-INTERVAL;VALUE=DURATION:PT1H
X-Robots-Tag:noindex
X-PUBLISHED-TTL:PT1H
BEGIN:VTIMEZONE
TZID:Europe/Helsinki
BEGIN:DAYLIGHT
TZOFFSETFROM:+0200
TZOFFSETTO:+0300
TZNAME:EEST
DTSTART:20250330T010000
END:DAYLIGHT
BEGIN:STANDARD
TZOFFSETFROM:+0300
TZOFFSETTO:+0200
TZNAME:EET
DTSTART:20251026T010000
END:STANDARD
BEGIN:DAYLIGHT
TZOFFSETFROM:+0200
TZOFFSETTO:+0300
TZNAME:EEST
DTSTART:20260329T010000
END:DAYLIGHT
BEGIN:STANDARD
TZOFFSETFROM:+0300
TZOFFSETTO:+0200
TZNAME:EET
DTSTART:20261025T010000
END:STANDARD
BEGIN:DAYLIGHT
TZOFFSETFROM:+0200
TZOFFSETTO:+0300
TZNAME:EEST
DTSTART:20270328T010000
END:DAYLIGHT
BEGIN:STANDARD
TZOFFSETFROM:+0300
TZOFFSETTO:+0200
TZNAME:EET
DTSTART:20271031T010000
END:STANDARD
END:VTIMEZONE
BEGIN:VEVENT
DTSTART;TZID=Europe/Helsinki:20260326T130000
DTEND;TZID=Europe/Helsinki:20260326T170000
DTSTAMP:20260420T060454
CREATED:20260129T094659Z
LAST-MODIFIED:20260129T094659Z
UID:5217-1774530000-1774544400@www.ekurhulenibowls.co.za
SUMMARY:Bowling for a Cause
DESCRIPTION:
URL:https://www.ekurhulenibowls.co.za/event/bowling-for-a-cause-2/
CATEGORIES:Bowling for a Cause
END:VEVENT
BEGIN:VEVENT
DTSTART;TZID=Europe/Helsinki:20260328T080000
DTEND;TZID=Europe/Helsinki:20260328T170000
DTSTAMP:20260420T060454
CREATED:20260129T094803Z
LAST-MODIFIED:20260129T094803Z
UID:5219-1774684800-1774717200@www.ekurhulenibowls.co.za
SUMMARY:EKB Pairs Finals
DESCRIPTION:
URL:https://www.ekurhulenibowls.co.za/event/ekb-pairs-finals/
CATEGORIES:EKB Pairs
END:VEVENT
BEGIN:VEVENT
DTSTART;TZID=Europe/Helsinki:20260403T080000
DTEND;TZID=Europe/Helsinki:20260405T170000
DTSTAMP:20260420T060454
CREATED:20260205T081230Z
LAST-MODIFIED:20260205T081230Z
UID:5259-1775203200-1775408400@www.ekurhulenibowls.co.za
SUMMARY:Benoni Big Bash
DESCRIPTION:
URL:https://www.ekurhulenibowls.co.za/event/benoni-big-bash/
CATEGORIES:GO BIG 6 KPBC
END:VEVENT
BEGIN:VEVENT
DTSTART;TZID=Europe/Helsinki:20260411T080000
DTEND;TZID=Europe/Helsinki:20260412T170000
DTSTAMP:20260420T060454
CREATED:20260205T082706Z
LAST-MODIFIED:20260205T083111Z
UID:5265-1775894400-1776013200@www.ekurhulenibowls.co.za
SUMMARY:DSCTO Tech OFF Level one
DESCRIPTION:
URL:https://www.ekurhulenibowls.co.za/event/dscto-teck-off-level-one/
CATEGORIES:Tour Off Course
END:VEVENT
END:VCALENDAR