BEGIN:VCALENDAR
VERSION:2.0
PRODID:-//Ekurhuleni Bowls - ECPv6.15.20//NONSGML v1.0//EN
CALSCALE:GREGORIAN
METHOD:PUBLISH
X-WR-CALNAME:Ekurhuleni Bowls
X-ORIGINAL-URL:https://www.ekurhulenibowls.co.za
X-WR-CALDESC:Events for Ekurhuleni Bowls
REFRESH-INTERVAL;VALUE=DURATION:PT1H
X-Robots-Tag:noindex
X-PUBLISHED-TTL:PT1H
BEGIN:VTIMEZONE
TZID:Europe/Helsinki
BEGIN:DAYLIGHT
TZOFFSETFROM:+0200
TZOFFSETTO:+0300
TZNAME:EEST
DTSTART:20240331T010000
END:DAYLIGHT
BEGIN:STANDARD
TZOFFSETFROM:+0300
TZOFFSETTO:+0200
TZNAME:EET
DTSTART:20241027T010000
END:STANDARD
BEGIN:DAYLIGHT
TZOFFSETFROM:+0200
TZOFFSETTO:+0300
TZNAME:EEST
DTSTART:20250330T010000
END:DAYLIGHT
BEGIN:STANDARD
TZOFFSETFROM:+0300
TZOFFSETTO:+0200
TZNAME:EET
DTSTART:20251026T010000
END:STANDARD
BEGIN:DAYLIGHT
TZOFFSETFROM:+0200
TZOFFSETTO:+0300
TZNAME:EEST
DTSTART:20260329T010000
END:DAYLIGHT
BEGIN:STANDARD
TZOFFSETFROM:+0300
TZOFFSETTO:+0200
TZNAME:EET
DTSTART:20261025T010000
END:STANDARD
BEGIN:DAYLIGHT
TZOFFSETFROM:+0200
TZOFFSETTO:+0300
TZNAME:EEST
DTSTART:20270328T010000
END:DAYLIGHT
BEGIN:STANDARD
TZOFFSETFROM:+0300
TZOFFSETTO:+0200
TZNAME:EET
DTSTART:20271031T010000
END:STANDARD
END:VTIMEZONE
BEGIN:VEVENT
DTSTART;TZID=Europe/Helsinki:20260131T130000
DTEND;TZID=Europe/Helsinki:20260131T173000
DTSTAMP:20260419T212750
CREATED:20260129T090101Z
LAST-MODIFIED:20260129T090101Z
UID:5161-1769864400-1769880600@www.ekurhulenibowls.co.za
SUMMARY:Saturday League Round 9
DESCRIPTION:
URL:https://www.ekurhulenibowls.co.za/event/saturday-league-round-9/
CATEGORIES:EKB Saturday League
END:VEVENT
BEGIN:VEVENT
DTSTART;TZID=Europe/Helsinki:20260128T080000
DTEND;TZID=Europe/Helsinki:20260128T123000
DTSTAMP:20260419T212750
CREATED:20260129T085850Z
LAST-MODIFIED:20260129T085850Z
UID:5159-1769587200-1769603400@www.ekurhulenibowls.co.za
SUMMARY:Midweek League Round 6
DESCRIPTION:
URL:https://www.ekurhulenibowls.co.za/event/midweek-league-round-6/
CATEGORIES:EKB Midweek League
END:VEVENT
BEGIN:VEVENT
DTSTART;TZID=Europe/Helsinki:20260125T080000
DTEND;TZID=Europe/Helsinki:20260125T170000
DTSTAMP:20260419T212750
CREATED:20260129T085617Z
LAST-MODIFIED:20260129T085617Z
UID:5157-1769328000-1769360400@www.ekurhulenibowls.co.za
SUMMARY:Mixed Fours Round Robin
DESCRIPTION:
URL:https://www.ekurhulenibowls.co.za/event/mixed-fours-round-robin/
CATEGORIES:EKB Fours
END:VEVENT
BEGIN:VEVENT
DTSTART;TZID=Europe/Helsinki:20260124T130000
DTEND;TZID=Europe/Helsinki:20260124T173000
DTSTAMP:20260419T212750
CREATED:20260129T085333Z
LAST-MODIFIED:20260129T085333Z
UID:5155-1769259600-1769275800@www.ekurhulenibowls.co.za
SUMMARY:Saturday League Round 8
DESCRIPTION:
URL:https://www.ekurhulenibowls.co.za/event/saturday-league-round-8/
CATEGORIES:EKB Saturday League
END:VEVENT
BEGIN:VEVENT
DTSTART;TZID=Europe/Helsinki:20260121T080000
DTEND;TZID=Europe/Helsinki:20260121T123000
DTSTAMP:20260419T212750
CREATED:20260129T085204Z
LAST-MODIFIED:20260129T085204Z
UID:5153-1768982400-1768998600@www.ekurhulenibowls.co.za
SUMMARY:Midweek League Round 5
DESCRIPTION:
URL:https://www.ekurhulenibowls.co.za/event/midweek-league-round-5/
CATEGORIES:EKB Midweek League
END:VEVENT
BEGIN:VEVENT
DTSTART;TZID=Europe/Helsinki:20260114T080000
DTEND;TZID=Europe/Helsinki:20260114T123000
DTSTAMP:20260419T212750
CREATED:20251028T055459Z
LAST-MODIFIED:20251028T055459Z
UID:4958-1768377600-1768393800@www.ekurhulenibowls.co.za
SUMMARY:MIDWEEK LEAGUE RND4
DESCRIPTION:
URL:https://www.ekurhulenibowls.co.za/event/midweek-league-rnd4/
CATEGORIES:EKB Midweek League
END:VEVENT
BEGIN:VEVENT
DTSTART;TZID=Europe/Helsinki:20260110T080000
DTEND;TZID=Europe/Helsinki:20260111T170000
DTSTAMP:20260419T212750
CREATED:20251028T055237Z
LAST-MODIFIED:20251028T055237Z
UID:4954-1768032000-1768150800@www.ekurhulenibowls.co.za
SUMMARY:DSCC COACH LEVEL 1
DESCRIPTION:
URL:https://www.ekurhulenibowls.co.za/event/dscc-coach-level-1/
CATEGORIES:Tour Off Course
END:VEVENT
BEGIN:VEVENT
DTSTART;TZID=Europe/Helsinki:20251206T133000
DTEND;TZID=Europe/Helsinki:20251206T170000
DTSTAMP:20260419T212750
CREATED:20251022T122953Z
LAST-MODIFIED:20251022T122953Z
UID:4914-1765027800-1765040400@www.ekurhulenibowls.co.za
SUMMARY:SAT LEAGUE RND 7
DESCRIPTION:
URL:https://www.ekurhulenibowls.co.za/event/sat-league-rnd-7/
CATEGORIES:EKB Saturday League
END:VEVENT
BEGIN:VEVENT
DTSTART;TZID=Europe/Helsinki:20251203T080000
DTEND;TZID=Europe/Helsinki:20251203T130000
DTSTAMP:20260419T212750
CREATED:20251022T122845Z
LAST-MODIFIED:20251022T122845Z
UID:4912-1764748800-1764766800@www.ekurhulenibowls.co.za
SUMMARY:MIDWEEK LEAGUE RND3
DESCRIPTION:
URL:https://www.ekurhulenibowls.co.za/event/midweek-league-rnd3/
CATEGORIES:EKB Midweek League
END:VEVENT
BEGIN:VEVENT
DTSTART;TZID=Europe/Helsinki:20251129T080000
DTEND;TZID=Europe/Helsinki:20251130T170000
DTSTAMP:20260419T212750
CREATED:20251022T122528Z
LAST-MODIFIED:20251022T122528Z
UID:4907-1764403200-1764522000@www.ekurhulenibowls.co.za
SUMMARY:DSCC COACH LEVEL 2
DESCRIPTION:
URL:https://www.ekurhulenibowls.co.za/event/dscc-coach-level-2/
CATEGORIES:Tour Off Course
END:VEVENT
BEGIN:VEVENT
DTSTART;TZID=Europe/Helsinki:20251126T080000
DTEND;TZID=Europe/Helsinki:20251126T130000
DTSTAMP:20260419T212750
CREATED:20251022T122349Z
LAST-MODIFIED:20251022T122349Z
UID:4905-1764144000-1764162000@www.ekurhulenibowls.co.za
SUMMARY:MIDWEEK LEAGUE RND2
DESCRIPTION:
URL:https://www.ekurhulenibowls.co.za/event/midweek-league-rnd2/
CATEGORIES:EKB Midweek League
END:VEVENT
BEGIN:VEVENT
DTSTART;TZID=Europe/Helsinki:20251123T080000
DTEND;TZID=Europe/Helsinki:20251123T170000
DTSTAMP:20260419T212750
CREATED:20251022T095739Z
LAST-MODIFIED:20251022T095739Z
UID:4903-1763884800-1763917200@www.ekurhulenibowls.co.za
SUMMARY:DSCTO MARKERS COURSE (JUNIORS)
DESCRIPTION:
URL:https://www.ekurhulenibowls.co.za/event/dscto-markers-course-juniors/
CATEGORIES:Tour Off Course
END:VEVENT
BEGIN:VEVENT
DTSTART;TZID=Europe/Helsinki:20251122T133000
DTEND;TZID=Europe/Helsinki:20251122T170000
DTSTAMP:20260419T212750
CREATED:20251022T095542Z
LAST-MODIFIED:20251022T095542Z
UID:4901-1763818200-1763830800@www.ekurhulenibowls.co.za
SUMMARY:SAT LEAGUE RND6
DESCRIPTION:
URL:https://www.ekurhulenibowls.co.za/event/sat-league-rnd6/
CATEGORIES:EKB Saturday League
END:VEVENT
BEGIN:VEVENT
DTSTART;TZID=Europe/Helsinki:20251122T080000
DTEND;TZID=Europe/Helsinki:20251122T110000
DTSTAMP:20260419T212750
CREATED:20251022T095331Z
LAST-MODIFIED:20251022T095412Z
UID:4899-1763798400-1763809200@www.ekurhulenibowls.co.za
SUMMARY:EKB COUNCIL MEETING
DESCRIPTION:
URL:https://www.ekurhulenibowls.co.za/event/ekb-council-meeting-4/
CATEGORIES:EKB Committee,Ekurhuleni Bowls
END:VEVENT
BEGIN:VEVENT
DTSTART;TZID=Europe/Helsinki:20251119T080000
DTEND;TZID=Europe/Helsinki:20251119T123000
DTSTAMP:20260419T212750
CREATED:20251022T095027Z
LAST-MODIFIED:20251022T095027Z
UID:4897-1763539200-1763555400@www.ekurhulenibowls.co.za
SUMMARY:MIDWEEK LEAGUE RND 1
DESCRIPTION:
URL:https://www.ekurhulenibowls.co.za/event/midweek-league-rnd-1/
CATEGORIES:EKB Midweek League
END:VEVENT
BEGIN:VEVENT
DTSTART;TZID=Europe/Helsinki:20251116T080000
DTEND;TZID=Europe/Helsinki:20251116T170000
DTSTAMP:20260419T212750
CREATED:20251022T094916Z
LAST-MODIFIED:20251022T094916Z
UID:4895-1763280000-1763312400@www.ekurhulenibowls.co.za
SUMMARY:FOURS FINALS
DESCRIPTION:
URL:https://www.ekurhulenibowls.co.za/event/fours-finals/
CATEGORIES:EKB Fours
END:VEVENT
BEGIN:VEVENT
DTSTART;TZID=Europe/Helsinki:20251115T133000
DTEND;TZID=Europe/Helsinki:20251115T170000
DTSTAMP:20260419T212750
CREATED:20251022T094818Z
LAST-MODIFIED:20251022T094818Z
UID:4893-1763213400-1763226000@www.ekurhulenibowls.co.za
SUMMARY:SAT LEAGUE RND 5
DESCRIPTION:
URL:https://www.ekurhulenibowls.co.za/event/sat-league-rnd-5/
CATEGORIES:EKB Saturday League
END:VEVENT
BEGIN:VEVENT
DTSTART;TZID=Europe/Helsinki:20251112T080000
DTEND;TZID=Europe/Helsinki:20251112T170000
DTSTAMP:20260419T212750
CREATED:20251022T094547Z
LAST-MODIFIED:20251022T094547Z
UID:4889-1762934400-1762966800@www.ekurhulenibowls.co.za
SUMMARY:MIDWEEK PAIRS FINALS
DESCRIPTION:
URL:https://www.ekurhulenibowls.co.za/event/midweek-pairs-finals/
CATEGORIES:EKB Midweek Pairs
END:VEVENT
BEGIN:VEVENT
DTSTART;TZID=Europe/Helsinki:20251109T080000
DTEND;TZID=Europe/Helsinki:20251109T170000
DTSTAMP:20260419T212750
CREATED:20251022T094306Z
LAST-MODIFIED:20251022T094306Z
UID:4885-1762675200-1762707600@www.ekurhulenibowls.co.za
SUMMARY:FOURS PLAYOFF'S
DESCRIPTION:
URL:https://www.ekurhulenibowls.co.za/event/fours-playoffs/
CATEGORIES:EKB Fours
END:VEVENT
BEGIN:VEVENT
DTSTART;TZID=Europe/Helsinki:20251109T080000
DTEND;TZID=Europe/Helsinki:20251109T140000
DTSTAMP:20260419T212750
CREATED:20251022T094435Z
LAST-MODIFIED:20251022T094435Z
UID:4887-1762675200-1762696800@www.ekurhulenibowls.co.za
SUMMARY:PD/VI FUNDRAISER
DESCRIPTION:
URL:https://www.ekurhulenibowls.co.za/event/pd-vi-fundraiser/
CATEGORIES:EKB Rose Bowl/ Fellowship Day ( Fundraiser)
END:VEVENT
BEGIN:VEVENT
DTSTART;TZID=Europe/Helsinki:20251108T133000
DTEND;TZID=Europe/Helsinki:20251108T170000
DTSTAMP:20260419T212750
CREATED:20251022T094157Z
LAST-MODIFIED:20251022T094157Z
UID:4883-1762608600-1762621200@www.ekurhulenibowls.co.za
SUMMARY:SAT LEAGUE RND4
DESCRIPTION:
URL:https://www.ekurhulenibowls.co.za/event/sat-league-rnd4/
CATEGORIES:EKB Saturday League
END:VEVENT
BEGIN:VEVENT
DTSTART;TZID=Europe/Helsinki:20251105T080000
DTEND;TZID=Europe/Helsinki:20251105T170000
DTSTAMP:20260419T212750
CREATED:20251022T094046Z
LAST-MODIFIED:20251022T094046Z
UID:4881-1762329600-1762362000@www.ekurhulenibowls.co.za
SUMMARY:MIDWEEK PAIRS PLAYOFF'S
DESCRIPTION:
URL:https://www.ekurhulenibowls.co.za/event/midweek-pairs-playoffs/
CATEGORIES:EKB Midweek Pairs
END:VEVENT
BEGIN:VEVENT
DTSTART;TZID=Europe/Helsinki:20251102T080000
DTEND;TZID=Europe/Helsinki:20251102T170000
DTSTAMP:20260419T212750
CREATED:20251022T093801Z
LAST-MODIFIED:20251022T093801Z
UID:4877-1762070400-1762102800@www.ekurhulenibowls.co.za
SUMMARY:FOURS ROUND ROBIN
DESCRIPTION:
URL:https://www.ekurhulenibowls.co.za/event/fours-round-robin/
CATEGORIES:EKB Fours
END:VEVENT
BEGIN:VEVENT
DTSTART;TZID=Europe/Helsinki:20251101T133000
DTEND;TZID=Europe/Helsinki:20251101T170000
DTSTAMP:20260419T212750
CREATED:20251022T093549Z
LAST-MODIFIED:20251022T093549Z
UID:4872-1762003800-1762016400@www.ekurhulenibowls.co.za
SUMMARY:SAT LEAGUE RND3
DESCRIPTION:
URL:https://www.ekurhulenibowls.co.za/event/sat-league-rnd3/
CATEGORIES:EKB Saturday League
END:VEVENT
BEGIN:VEVENT
DTSTART;TZID=Europe/Helsinki:20251029T083000
DTEND;TZID=Europe/Helsinki:20251029T130000
DTSTAMP:20260419T212750
CREATED:20251022T093317Z
LAST-MODIFIED:20251022T093317Z
UID:4868-1761726600-1761742800@www.ekurhulenibowls.co.za
SUMMARY:MIDWEEK PAIRS RND3
DESCRIPTION:
URL:https://www.ekurhulenibowls.co.za/event/midweek-pairs-rnd3/
CATEGORIES:EKB Midweek Pairs
END:VEVENT
BEGIN:VEVENT
DTSTART;TZID=Europe/Helsinki:20251026T080000
DTEND;TZID=Europe/Helsinki:20251026T150000
DTSTAMP:20260419T212750
CREATED:20251022T093152Z
LAST-MODIFIED:20251022T093152Z
UID:4866-1761465600-1761490800@www.ekurhulenibowls.co.za
SUMMARY:IZIMBALI FUNDRAISER
DESCRIPTION:
URL:https://www.ekurhulenibowls.co.za/event/izimbali-fundraiser/
CATEGORIES:EKB Rose Bowl/ Fellowship Day ( Fundraiser)
END:VEVENT
BEGIN:VEVENT
DTSTART;TZID=Europe/Helsinki:20251025T133000
DTEND;TZID=Europe/Helsinki:20251025T170000
DTSTAMP:20260419T212750
CREATED:20251022T093013Z
LAST-MODIFIED:20251022T093013Z
UID:4864-1761399000-1761411600@www.ekurhulenibowls.co.za
SUMMARY:SAT LEAGUE RND2
DESCRIPTION:
URL:https://www.ekurhulenibowls.co.za/event/sat-league-rnd2/
CATEGORIES:EKB Saturday League
END:VEVENT
BEGIN:VEVENT
DTSTART;TZID=Europe/Helsinki:20251022T080000
DTEND;TZID=Europe/Helsinki:20251022T123000
DTSTAMP:20260419T212750
CREATED:20251020T173508Z
LAST-MODIFIED:20251020T173508Z
UID:4847-1761120000-1761136200@www.ekurhulenibowls.co.za
SUMMARY:MIDWEEK PAIRS RND2
DESCRIPTION:
URL:https://www.ekurhulenibowls.co.za/event/midweek-pairs-rnd2/
CATEGORIES:EKB Midweek Pairs
END:VEVENT
BEGIN:VEVENT
DTSTART;TZID=Europe/Helsinki:20251019T080000
DTEND;TZID=Europe/Helsinki:20251019T170000
DTSTAMP:20260419T212750
CREATED:20251020T172850Z
LAST-MODIFIED:20251020T172939Z
UID:4843-1760860800-1760893200@www.ekurhulenibowls.co.za
SUMMARY:DSCTO Technical Official Level Two
DESCRIPTION:
URL:https://www.ekurhulenibowls.co.za/event/dscto-technical-official-level-two-2/
CATEGORIES:Tour Off Course
END:VEVENT
BEGIN:VEVENT
DTSTART;TZID=Europe/Helsinki:20251018T133000
DTEND;TZID=Europe/Helsinki:20251018T170000
DTSTAMP:20260419T212750
CREATED:20251020T172650Z
LAST-MODIFIED:20251020T172650Z
UID:4841-1760794200-1760806800@www.ekurhulenibowls.co.za
SUMMARY:SAT LEAGUE RND1
DESCRIPTION:
URL:https://www.ekurhulenibowls.co.za/event/sat-league-rnd1/
CATEGORIES:EKB Saturday League
END:VEVENT
END:VCALENDAR