BEGIN:VCALENDAR
VERSION:2.0
PRODID:-//Ekurhuleni Bowls - ECPv6.15.20//NONSGML v1.0//EN
CALSCALE:GREGORIAN
METHOD:PUBLISH
X-WR-CALNAME:Ekurhuleni Bowls
X-ORIGINAL-URL:https://www.ekurhulenibowls.co.za
X-WR-CALDESC:Events for Ekurhuleni Bowls
REFRESH-INTERVAL;VALUE=DURATION:PT1H
X-Robots-Tag:noindex
X-PUBLISHED-TTL:PT1H
BEGIN:VTIMEZONE
TZID:Europe/Helsinki
BEGIN:DAYLIGHT
TZOFFSETFROM:+0200
TZOFFSETTO:+0300
TZNAME:EEST
DTSTART:20230326T010000
END:DAYLIGHT
BEGIN:STANDARD
TZOFFSETFROM:+0300
TZOFFSETTO:+0200
TZNAME:EET
DTSTART:20231029T010000
END:STANDARD
BEGIN:DAYLIGHT
TZOFFSETFROM:+0200
TZOFFSETTO:+0300
TZNAME:EEST
DTSTART:20240331T010000
END:DAYLIGHT
BEGIN:STANDARD
TZOFFSETFROM:+0300
TZOFFSETTO:+0200
TZNAME:EET
DTSTART:20241027T010000
END:STANDARD
BEGIN:DAYLIGHT
TZOFFSETFROM:+0200
TZOFFSETTO:+0300
TZNAME:EEST
DTSTART:20250330T010000
END:DAYLIGHT
BEGIN:STANDARD
TZOFFSETFROM:+0300
TZOFFSETTO:+0200
TZNAME:EET
DTSTART:20251026T010000
END:STANDARD
END:VTIMEZONE
BEGIN:VEVENT
DTSTART;TZID=Europe/Helsinki:20241026T123000
DTEND;TZID=Europe/Helsinki:20241026T170000
DTSTAMP:20260420T112903
CREATED:20241006T120009Z
LAST-MODIFIED:20241011T094503Z
UID:3699-1729945800-1729962000@www.ekurhulenibowls.co.za
SUMMARY:EKB Saturday League R1
DESCRIPTION:2025 EKB Saturday League – Ekurhuleni Bowls
URL:https://www.ekurhulenibowls.co.za/event/ekb-saturday-league-r1/
CATEGORIES:EKB Saturday League
END:VEVENT
BEGIN:VEVENT
DTSTART;TZID=Europe/Helsinki:20241026T080000
DTEND;TZID=Europe/Helsinki:20241026T120000
DTSTAMP:20260420T112903
CREATED:20241006T115932Z
LAST-MODIFIED:20241006T115932Z
UID:3697-1729929600-1729944000@www.ekurhulenibowls.co.za
SUMMARY:EKB Academy
DESCRIPTION:
URL:https://www.ekurhulenibowls.co.za/event/ekb-academy-2/
CATEGORIES:EKB Academy
END:VEVENT
BEGIN:VEVENT
DTSTART;TZID=Europe/Helsinki:20241023T080000
DTEND;TZID=Europe/Helsinki:20241023T123000
DTSTAMP:20260420T112903
CREATED:20241006T115849Z
LAST-MODIFIED:20241011T102220Z
UID:3695-1729670400-1729686600@www.ekurhulenibowls.co.za
SUMMARY:EKB Midweek Pairs R2
DESCRIPTION:2025 EKB Midweek Pairs – Ekurhuleni Bowls
URL:https://www.ekurhulenibowls.co.za/event/ekb-midweek-pairs-r2/
CATEGORIES:EKB Midweek Pairs
END:VEVENT
BEGIN:VEVENT
DTSTART;TZID=Europe/Helsinki:20241021T080000
DTEND;TZID=Europe/Helsinki:20241021T170000
DTSTAMP:20260420T112903
CREATED:20241006T115808Z
LAST-MODIFIED:20241006T115808Z
UID:3693-1729497600-1729530000@www.ekurhulenibowls.co.za
SUMMARY:Fours Entries Close
DESCRIPTION:
URL:https://www.ekurhulenibowls.co.za/event/fours-entries-close/
CATEGORIES:EKB Fours
END:VEVENT
BEGIN:VEVENT
DTSTART;TZID=Europe/Helsinki:20241016T080000
DTEND;TZID=Europe/Helsinki:20241016T130000
DTSTAMP:20260420T112903
CREATED:20241006T115247Z
LAST-MODIFIED:20241011T102121Z
UID:3685-1729065600-1729083600@www.ekurhulenibowls.co.za
SUMMARY:EKB Midweek Pairs R1
DESCRIPTION:2025 EKB Midweek Pairs – Ekurhuleni Bowls
URL:https://www.ekurhulenibowls.co.za/event/ekb-midweek-pairs-r1/
CATEGORIES:EKB Midweek Pairs
END:VEVENT
BEGIN:VEVENT
DTSTART;TZID=Europe/Helsinki:20241012T080000
DTEND;TZID=Europe/Helsinki:20241012T123000
DTSTAMP:20260420T112903
CREATED:20241006T114850Z
LAST-MODIFIED:20241006T114850Z
UID:3681-1728720000-1728736200@www.ekurhulenibowls.co.za
SUMMARY:Tour Off Course
DESCRIPTION:
URL:https://www.ekurhulenibowls.co.za/event/tour-off-course/
CATEGORIES:Tour Off Course
END:VEVENT
BEGIN:VEVENT
DTSTART;TZID=Europe/Helsinki:20241012T080000
DTEND;TZID=Europe/Helsinki:20241012T123000
DTSTAMP:20260420T112903
CREATED:20241006T114416Z
LAST-MODIFIED:20241006T114416Z
UID:3679-1728720000-1728736200@www.ekurhulenibowls.co.za
SUMMARY:EKB Academy
DESCRIPTION:
URL:https://www.ekurhulenibowls.co.za/event/ekb-academy/
CATEGORIES:EKB Academy
END:VEVENT
BEGIN:VEVENT
DTSTART;VALUE=DATE:20241001
DTEND;VALUE=DATE:20241002
DTSTAMP:20260420T112903
CREATED:20241006T114012Z
LAST-MODIFIED:20241006T114012Z
UID:3675-1727740800-1727827199@www.ekurhulenibowls.co.za
SUMMARY:MWP Entries Close
DESCRIPTION:
URL:https://www.ekurhulenibowls.co.za/event/mwp-entries-close/
CATEGORIES:EKB Midweek Pairs
END:VEVENT
END:VCALENDAR