BEGIN:VCALENDAR
VERSION:2.0
PRODID:-//Ekurhuleni Bowls - ECPv6.15.20//NONSGML v1.0//EN
CALSCALE:GREGORIAN
METHOD:PUBLISH
X-WR-CALNAME:Ekurhuleni Bowls
X-ORIGINAL-URL:https://www.ekurhulenibowls.co.za
X-WR-CALDESC:Events for Ekurhuleni Bowls
REFRESH-INTERVAL;VALUE=DURATION:PT1H
X-Robots-Tag:noindex
X-PUBLISHED-TTL:PT1H
BEGIN:VTIMEZONE
TZID:Europe/Helsinki
BEGIN:DAYLIGHT
TZOFFSETFROM:+0200
TZOFFSETTO:+0300
TZNAME:EEST
DTSTART:20250330T010000
END:DAYLIGHT
BEGIN:STANDARD
TZOFFSETFROM:+0300
TZOFFSETTO:+0200
TZNAME:EET
DTSTART:20251026T010000
END:STANDARD
BEGIN:DAYLIGHT
TZOFFSETFROM:+0200
TZOFFSETTO:+0300
TZNAME:EEST
DTSTART:20260329T010000
END:DAYLIGHT
BEGIN:STANDARD
TZOFFSETFROM:+0300
TZOFFSETTO:+0200
TZNAME:EET
DTSTART:20261025T010000
END:STANDARD
BEGIN:DAYLIGHT
TZOFFSETFROM:+0200
TZOFFSETTO:+0300
TZNAME:EEST
DTSTART:20270328T010000
END:DAYLIGHT
BEGIN:STANDARD
TZOFFSETFROM:+0300
TZOFFSETTO:+0200
TZNAME:EET
DTSTART:20271031T010000
END:STANDARD
END:VTIMEZONE
BEGIN:VEVENT
DTSTART;TZID=Europe/Helsinki:20260411T080000
DTEND;TZID=Europe/Helsinki:20260412T170000
DTSTAMP:20260419T180240
CREATED:20260205T082706Z
LAST-MODIFIED:20260205T083111Z
UID:5265-1775894400-1776013200@www.ekurhulenibowls.co.za
SUMMARY:DSCTO Tech OFF Level one
DESCRIPTION:
URL:https://www.ekurhulenibowls.co.za/event/dscto-teck-off-level-one/
CATEGORIES:Tour Off Course
END:VEVENT
BEGIN:VEVENT
DTSTART;TZID=Europe/Helsinki:20260403T080000
DTEND;TZID=Europe/Helsinki:20260405T170000
DTSTAMP:20260419T180240
CREATED:20260205T081230Z
LAST-MODIFIED:20260205T081230Z
UID:5259-1775203200-1775408400@www.ekurhulenibowls.co.za
SUMMARY:Benoni Big Bash
DESCRIPTION:
URL:https://www.ekurhulenibowls.co.za/event/benoni-big-bash/
CATEGORIES:GO BIG 6 KPBC
END:VEVENT
BEGIN:VEVENT
DTSTART;TZID=Europe/Helsinki:20260328T080000
DTEND;TZID=Europe/Helsinki:20260328T170000
DTSTAMP:20260419T180240
CREATED:20260129T094803Z
LAST-MODIFIED:20260129T094803Z
UID:5219-1774684800-1774717200@www.ekurhulenibowls.co.za
SUMMARY:EKB Pairs Finals
DESCRIPTION:
URL:https://www.ekurhulenibowls.co.za/event/ekb-pairs-finals/
CATEGORIES:EKB Pairs
END:VEVENT
BEGIN:VEVENT
DTSTART;TZID=Europe/Helsinki:20260326T130000
DTEND;TZID=Europe/Helsinki:20260326T170000
DTSTAMP:20260419T180240
CREATED:20260129T094659Z
LAST-MODIFIED:20260129T094659Z
UID:5217-1774530000-1774544400@www.ekurhulenibowls.co.za
SUMMARY:Bowling for a Cause
DESCRIPTION:
URL:https://www.ekurhulenibowls.co.za/event/bowling-for-a-cause-2/
CATEGORIES:Bowling for a Cause
END:VEVENT
BEGIN:VEVENT
DTSTART;TZID=Europe/Helsinki:20260322T080000
DTEND;TZID=Europe/Helsinki:20260322T170000
DTSTAMP:20260419T180240
CREATED:20260129T094559Z
LAST-MODIFIED:20260129T094559Z
UID:5215-1774166400-1774198800@www.ekurhulenibowls.co.za
SUMMARY:EKB Pairs Playoff
DESCRIPTION:
URL:https://www.ekurhulenibowls.co.za/event/ekb-pairs-playoff/
CATEGORIES:EKB Pairs
END:VEVENT
BEGIN:VEVENT
DTSTART;TZID=Europe/Helsinki:20260321T080000
DTEND;TZID=Europe/Helsinki:20260321T170000
DTSTAMP:20260419T180240
CREATED:20260129T094421Z
LAST-MODIFIED:20260129T094421Z
UID:5211-1774080000-1774112400@www.ekurhulenibowls.co.za
SUMMARY:EKB Pairs Round Robin
DESCRIPTION:
URL:https://www.ekurhulenibowls.co.za/event/ekb-pairs-round-robin-2/
CATEGORIES:EKB Pairs
END:VEVENT
BEGIN:VEVENT
DTSTART;TZID=Europe/Helsinki:20260319T080000
DTEND;TZID=Europe/Helsinki:20260322T170000
DTSTAMP:20260419T180240
CREATED:20260129T094308Z
LAST-MODIFIED:20260129T094308Z
UID:5209-1773907200-1774198800@www.ekurhulenibowls.co.za
SUMMARY:PBA WBT Qualifier
DESCRIPTION:
URL:https://www.ekurhulenibowls.co.za/event/pba-wbt-qualifier/
CATEGORIES:GO BIG 6 KPBC
END:VEVENT
BEGIN:VEVENT
DTSTART;TZID=Europe/Helsinki:20260307T080000
DTEND;TZID=Europe/Helsinki:20260307T170000
DTSTAMP:20260419T180240
CREATED:20260129T093656Z
LAST-MODIFIED:20260129T093656Z
UID:5201-1772870400-1772902800@www.ekurhulenibowls.co.za
SUMMARY:Junior Fundraiser
DESCRIPTION:
URL:https://www.ekurhulenibowls.co.za/event/junior-fundraiser/
CATEGORIES:EKB Rose Bowl/ Fellowship Day ( Fundraiser)
END:VEVENT
BEGIN:VEVENT
DTSTART;TZID=Europe/Helsinki:20260307T080000
DTEND;TZID=Europe/Helsinki:20260307T170000
DTSTAMP:20260419T180240
CREATED:20260129T093537Z
LAST-MODIFIED:20260129T093537Z
UID:5199-1772870400-1772902800@www.ekurhulenibowls.co.za
SUMMARY:GO Big
DESCRIPTION:
URL:https://www.ekurhulenibowls.co.za/event/go-big/
CATEGORIES:GO BIG 6 KPBC
END:VEVENT
BEGIN:VEVENT
DTSTART;TZID=Europe/Helsinki:20260304T080000
DTEND;TZID=Europe/Helsinki:20260304T123000
DTSTAMP:20260419T180240
CREATED:20260129T093428Z
LAST-MODIFIED:20260129T093428Z
UID:5197-1772611200-1772627400@www.ekurhulenibowls.co.za
SUMMARY:Midweek League Final
DESCRIPTION:
URL:https://www.ekurhulenibowls.co.za/event/midweek-league-final/
CATEGORIES:EKB Midweek League
END:VEVENT
BEGIN:VEVENT
DTSTART;TZID=Europe/Helsinki:20260301T080000
DTEND;TZID=Europe/Helsinki:20260301T170000
DTSTAMP:20260419T180240
CREATED:20260129T093149Z
LAST-MODIFIED:20260129T093149Z
UID:5195-1772352000-1772384400@www.ekurhulenibowls.co.za
SUMMARY:EKB Trips Finals
DESCRIPTION:
URL:https://www.ekurhulenibowls.co.za/event/ekb-trips-finals-2/
CATEGORIES:EKB Trips
END:VEVENT
BEGIN:VEVENT
DTSTART;TZID=Europe/Helsinki:20260228T080000
DTEND;TZID=Europe/Helsinki:20260228T170000
DTSTAMP:20260419T180240
CREATED:20260129T093008Z
LAST-MODIFIED:20260129T093008Z
UID:5193-1772265600-1772298000@www.ekurhulenibowls.co.za
SUMMARY:EKB Trips Playoff
DESCRIPTION:
URL:https://www.ekurhulenibowls.co.za/event/ekb-trips-playoff/
CATEGORIES:EKB Trips
END:VEVENT
BEGIN:VEVENT
DTSTART;TZID=Europe/Helsinki:20260226T130000
DTEND;TZID=Europe/Helsinki:20260226T170000
DTSTAMP:20260419T180240
CREATED:20260129T092712Z
LAST-MODIFIED:20260129T092712Z
UID:5191-1772110800-1772125200@www.ekurhulenibowls.co.za
SUMMARY:Bowling For a Cause
DESCRIPTION:
URL:https://www.ekurhulenibowls.co.za/event/bowling-for-a-cause/
CATEGORIES:Bowling for a Cause
END:VEVENT
BEGIN:VEVENT
DTSTART;TZID=Europe/Helsinki:20260225T080000
DTEND;TZID=Europe/Helsinki:20260225T123000
DTSTAMP:20260419T180240
CREATED:20260129T091829Z
LAST-MODIFIED:20260129T091829Z
UID:5189-1772006400-1772022600@www.ekurhulenibowls.co.za
SUMMARY:Midweek League Round 10
DESCRIPTION:
URL:https://www.ekurhulenibowls.co.za/event/midweek-league-round-10/
CATEGORIES:EKB Midweek League
END:VEVENT
BEGIN:VEVENT
DTSTART;TZID=Europe/Helsinki:20260222T080000
DTEND;TZID=Europe/Helsinki:20260222T170000
DTSTAMP:20260419T180240
CREATED:20260129T091712Z
LAST-MODIFIED:20260129T091712Z
UID:5187-1771747200-1771779600@www.ekurhulenibowls.co.za
SUMMARY:EKB Trips Round Robin
DESCRIPTION:
URL:https://www.ekurhulenibowls.co.za/event/ekb-trips-round-robin/
CATEGORIES:EKB Trips
END:VEVENT
BEGIN:VEVENT
DTSTART;TZID=Europe/Helsinki:20260221T130000
DTEND;TZID=Europe/Helsinki:20260221T173000
DTSTAMP:20260419T180240
CREATED:20260129T091627Z
LAST-MODIFIED:20260129T091627Z
UID:5185-1771678800-1771695000@www.ekurhulenibowls.co.za
SUMMARY:Saturday League Finals
DESCRIPTION:
URL:https://www.ekurhulenibowls.co.za/event/saturday-league-finals/
CATEGORIES:EKB Saturday League
END:VEVENT
BEGIN:VEVENT
DTSTART;TZID=Europe/Helsinki:20260221T100000
DTEND;TZID=Europe/Helsinki:20260221T120000
DTSTAMP:20260419T180240
CREATED:20260129T091535Z
LAST-MODIFIED:20260129T091535Z
UID:5183-1771668000-1771675200@www.ekurhulenibowls.co.za
SUMMARY:EKB Send off
DESCRIPTION:
URL:https://www.ekurhulenibowls.co.za/event/ekb-send-off/
CATEGORIES:EKB Committee
END:VEVENT
BEGIN:VEVENT
DTSTART;TZID=Europe/Helsinki:20260221T080000
DTEND;TZID=Europe/Helsinki:20260221T100000
DTSTAMP:20260419T180240
CREATED:20260129T091252Z
LAST-MODIFIED:20260129T091350Z
UID:5181-1771660800-1771668000@www.ekurhulenibowls.co.za
SUMMARY:EKB Council
DESCRIPTION:
URL:https://www.ekurhulenibowls.co.za/event/ekb-council/
CATEGORIES:EKB Committee
END:VEVENT
BEGIN:VEVENT
DTSTART;TZID=Europe/Helsinki:20260218T080000
DTEND;TZID=Europe/Helsinki:20260218T123000
DTSTAMP:20260419T180240
CREATED:20260129T090950Z
LAST-MODIFIED:20260129T090950Z
UID:5179-1771401600-1771417800@www.ekurhulenibowls.co.za
SUMMARY:Midweek League Round 9
DESCRIPTION:
URL:https://www.ekurhulenibowls.co.za/event/midweek-league-round-9/
CATEGORIES:EKB Midweek League
END:VEVENT
BEGIN:VEVENT
DTSTART;TZID=Europe/Helsinki:20260215T080000
DTEND;TZID=Europe/Helsinki:20260215T170000
DTSTAMP:20260419T180240
CREATED:20260129T090847Z
LAST-MODIFIED:20260129T090847Z
UID:5177-1771142400-1771174800@www.ekurhulenibowls.co.za
SUMMARY:Mixed Fours Finals
DESCRIPTION:
URL:https://www.ekurhulenibowls.co.za/event/mixed-fours-finals/
CATEGORIES:EKB Fours
END:VEVENT
BEGIN:VEVENT
DTSTART;TZID=Europe/Helsinki:20260214T130000
DTEND;TZID=Europe/Helsinki:20260214T173000
DTSTAMP:20260419T180240
CREATED:20260129T090809Z
LAST-MODIFIED:20260129T090809Z
UID:5175-1771074000-1771090200@www.ekurhulenibowls.co.za
SUMMARY:Saturday League Round 10
DESCRIPTION:
URL:https://www.ekurhulenibowls.co.za/event/saturday-league-round-10/
CATEGORIES:EKB Saturday League
END:VEVENT
BEGIN:VEVENT
DTSTART;TZID=Europe/Helsinki:20260211T080000
DTEND;TZID=Europe/Helsinki:20260211T123000
DTSTAMP:20260419T180240
CREATED:20260129T090715Z
LAST-MODIFIED:20260129T090715Z
UID:5173-1770796800-1770813000@www.ekurhulenibowls.co.za
SUMMARY:Midweek League Round 8
DESCRIPTION:
URL:https://www.ekurhulenibowls.co.za/event/midweek-league-round-8/
CATEGORIES:EKB Midweek League
END:VEVENT
BEGIN:VEVENT
DTSTART;TZID=Europe/Helsinki:20260204T080000
DTEND;TZID=Europe/Helsinki:20260204T123000
DTSTAMP:20260419T180240
CREATED:20260129T090443Z
LAST-MODIFIED:20260129T090443Z
UID:5167-1770192000-1770208200@www.ekurhulenibowls.co.za
SUMMARY:Midweek League Round 7
DESCRIPTION:
URL:https://www.ekurhulenibowls.co.za/event/midweek-league-round-7/
CATEGORIES:EKB Midweek League
END:VEVENT
BEGIN:VEVENT
DTSTART;TZID=Europe/Helsinki:20260201T080000
DTEND;TZID=Europe/Helsinki:20260201T170000
DTSTAMP:20260419T180240
CREATED:20260129T090308Z
LAST-MODIFIED:20260129T090308Z
UID:5163-1769932800-1769965200@www.ekurhulenibowls.co.za
SUMMARY:Mixed Fours Playoff
DESCRIPTION:
URL:https://www.ekurhulenibowls.co.za/event/mixed-fours-playoff/
CATEGORIES:EKB Fours
END:VEVENT
BEGIN:VEVENT
DTSTART;TZID=Europe/Helsinki:20260131T130000
DTEND;TZID=Europe/Helsinki:20260131T173000
DTSTAMP:20260419T180240
CREATED:20260129T090101Z
LAST-MODIFIED:20260129T090101Z
UID:5161-1769864400-1769880600@www.ekurhulenibowls.co.za
SUMMARY:Saturday League Round 9
DESCRIPTION:
URL:https://www.ekurhulenibowls.co.za/event/saturday-league-round-9/
CATEGORIES:EKB Saturday League
END:VEVENT
BEGIN:VEVENT
DTSTART;TZID=Europe/Helsinki:20260128T080000
DTEND;TZID=Europe/Helsinki:20260128T123000
DTSTAMP:20260419T180240
CREATED:20260129T085850Z
LAST-MODIFIED:20260129T085850Z
UID:5159-1769587200-1769603400@www.ekurhulenibowls.co.za
SUMMARY:Midweek League Round 6
DESCRIPTION:
URL:https://www.ekurhulenibowls.co.za/event/midweek-league-round-6/
CATEGORIES:EKB Midweek League
END:VEVENT
BEGIN:VEVENT
DTSTART;TZID=Europe/Helsinki:20260125T080000
DTEND;TZID=Europe/Helsinki:20260125T170000
DTSTAMP:20260419T180240
CREATED:20260129T085617Z
LAST-MODIFIED:20260129T085617Z
UID:5157-1769328000-1769360400@www.ekurhulenibowls.co.za
SUMMARY:Mixed Fours Round Robin
DESCRIPTION:
URL:https://www.ekurhulenibowls.co.za/event/mixed-fours-round-robin/
CATEGORIES:EKB Fours
END:VEVENT
BEGIN:VEVENT
DTSTART;TZID=Europe/Helsinki:20260124T130000
DTEND;TZID=Europe/Helsinki:20260124T173000
DTSTAMP:20260419T180240
CREATED:20260129T085333Z
LAST-MODIFIED:20260129T085333Z
UID:5155-1769259600-1769275800@www.ekurhulenibowls.co.za
SUMMARY:Saturday League Round 8
DESCRIPTION:
URL:https://www.ekurhulenibowls.co.za/event/saturday-league-round-8/
CATEGORIES:EKB Saturday League
END:VEVENT
BEGIN:VEVENT
DTSTART;TZID=Europe/Helsinki:20260121T080000
DTEND;TZID=Europe/Helsinki:20260121T123000
DTSTAMP:20260419T180240
CREATED:20260129T085204Z
LAST-MODIFIED:20260129T085204Z
UID:5153-1768982400-1768998600@www.ekurhulenibowls.co.za
SUMMARY:Midweek League Round 5
DESCRIPTION:
URL:https://www.ekurhulenibowls.co.za/event/midweek-league-round-5/
CATEGORIES:EKB Midweek League
END:VEVENT
BEGIN:VEVENT
DTSTART;TZID=Europe/Helsinki:20260114T080000
DTEND;TZID=Europe/Helsinki:20260114T123000
DTSTAMP:20260419T180240
CREATED:20251028T055459Z
LAST-MODIFIED:20251028T055459Z
UID:4958-1768377600-1768393800@www.ekurhulenibowls.co.za
SUMMARY:MIDWEEK LEAGUE RND4
DESCRIPTION:
URL:https://www.ekurhulenibowls.co.za/event/midweek-league-rnd4/
CATEGORIES:EKB Midweek League
END:VEVENT
END:VCALENDAR