BEGIN:VCALENDAR
VERSION:2.0
PRODID:-//Ekurhuleni Bowls - ECPv6.15.20//NONSGML v1.0//EN
CALSCALE:GREGORIAN
METHOD:PUBLISH
X-WR-CALNAME:Ekurhuleni Bowls
X-ORIGINAL-URL:https://www.ekurhulenibowls.co.za
X-WR-CALDESC:Events for Ekurhuleni Bowls
REFRESH-INTERVAL;VALUE=DURATION:PT1H
X-Robots-Tag:noindex
X-PUBLISHED-TTL:PT1H
BEGIN:VTIMEZONE
TZID:Europe/Helsinki
BEGIN:DAYLIGHT
TZOFFSETFROM:+0200
TZOFFSETTO:+0300
TZNAME:EEST
DTSTART:20230326T010000
END:DAYLIGHT
BEGIN:STANDARD
TZOFFSETFROM:+0300
TZOFFSETTO:+0200
TZNAME:EET
DTSTART:20231029T010000
END:STANDARD
BEGIN:DAYLIGHT
TZOFFSETFROM:+0200
TZOFFSETTO:+0300
TZNAME:EEST
DTSTART:20240331T010000
END:DAYLIGHT
BEGIN:STANDARD
TZOFFSETFROM:+0300
TZOFFSETTO:+0200
TZNAME:EET
DTSTART:20241027T010000
END:STANDARD
BEGIN:DAYLIGHT
TZOFFSETFROM:+0200
TZOFFSETTO:+0300
TZNAME:EEST
DTSTART:20250330T010000
END:DAYLIGHT
BEGIN:STANDARD
TZOFFSETFROM:+0300
TZOFFSETTO:+0200
TZNAME:EET
DTSTART:20251026T010000
END:STANDARD
BEGIN:DAYLIGHT
TZOFFSETFROM:+0200
TZOFFSETTO:+0300
TZNAME:EEST
DTSTART:20260329T010000
END:DAYLIGHT
BEGIN:STANDARD
TZOFFSETFROM:+0300
TZOFFSETTO:+0200
TZNAME:EET
DTSTART:20261025T010000
END:STANDARD
BEGIN:DAYLIGHT
TZOFFSETFROM:+0200
TZOFFSETTO:+0300
TZNAME:EEST
DTSTART:20270328T010000
END:DAYLIGHT
BEGIN:STANDARD
TZOFFSETFROM:+0300
TZOFFSETTO:+0200
TZNAME:EET
DTSTART:20271031T010000
END:STANDARD
END:VTIMEZONE
BEGIN:VEVENT
DTSTART;TZID=Europe/Helsinki:20260221T100000
DTEND;TZID=Europe/Helsinki:20260221T120000
DTSTAMP:20260420T125224
CREATED:20260129T091535Z
LAST-MODIFIED:20260129T091535Z
UID:5183-1771668000-1771675200@www.ekurhulenibowls.co.za
SUMMARY:EKB Send off
DESCRIPTION:
URL:https://www.ekurhulenibowls.co.za/event/ekb-send-off/
CATEGORIES:EKB Committee
END:VEVENT
BEGIN:VEVENT
DTSTART;TZID=Europe/Helsinki:20260221T080000
DTEND;TZID=Europe/Helsinki:20260221T100000
DTSTAMP:20260420T125224
CREATED:20260129T091252Z
LAST-MODIFIED:20260129T091350Z
UID:5181-1771660800-1771668000@www.ekurhulenibowls.co.za
SUMMARY:EKB Council
DESCRIPTION:
URL:https://www.ekurhulenibowls.co.za/event/ekb-council/
CATEGORIES:EKB Committee
END:VEVENT
BEGIN:VEVENT
DTSTART;TZID=Europe/Helsinki:20251122T080000
DTEND;TZID=Europe/Helsinki:20251122T110000
DTSTAMP:20260420T125224
CREATED:20251022T095331Z
LAST-MODIFIED:20251022T095412Z
UID:4899-1763798400-1763809200@www.ekurhulenibowls.co.za
SUMMARY:EKB COUNCIL MEETING
DESCRIPTION:
URL:https://www.ekurhulenibowls.co.za/event/ekb-council-meeting-4/
CATEGORIES:EKB Committee,Ekurhuleni Bowls
END:VEVENT
BEGIN:VEVENT
DTSTART;VALUE=DATE:20250927
DTEND;VALUE=DATE:20250928
DTSTAMP:20260420T125224
CREATED:20241014T093153Z
LAST-MODIFIED:20241014T093153Z
UID:3967-1758931200-1759017599@www.ekurhulenibowls.co.za
SUMMARY:EKB AGM GREENS OPENING PRIZEGIVING
DESCRIPTION:
URL:https://www.ekurhulenibowls.co.za/event/ekb-agm-greens-opening-prizegiving/
CATEGORIES:EKB Committee
END:VEVENT
BEGIN:VEVENT
DTSTART;TZID=Europe/Helsinki:20250524T080000
DTEND;TZID=Europe/Helsinki:20250524T123000
DTSTAMP:20260420T125224
CREATED:20241014T085639Z
LAST-MODIFIED:20241014T085639Z
UID:3894-1748073600-1748089800@www.ekurhulenibowls.co.za
SUMMARY:EKB Council Meeting
DESCRIPTION:
URL:https://www.ekurhulenibowls.co.za/event/ekb-council-meeting-3/
CATEGORIES:EKB Committee
END:VEVENT
BEGIN:VEVENT
DTSTART;TZID=Europe/Helsinki:20241123T080000
DTEND;TZID=Europe/Helsinki:20241123T120000
DTSTAMP:20260420T125224
CREATED:20241011T095817Z
LAST-MODIFIED:20241011T095955Z
UID:3753-1732348800-1732363200@www.ekurhulenibowls.co.za
SUMMARY:EKB Council Meeting
DESCRIPTION:
URL:https://www.ekurhulenibowls.co.za/event/ekb-council-meeting/
CATEGORIES:EKB Committee
END:VEVENT
END:VCALENDAR