BEGIN:VCALENDAR
VERSION:2.0
PRODID:-//Ekurhuleni Bowls - ECPv6.15.20//NONSGML v1.0//EN
CALSCALE:GREGORIAN
METHOD:PUBLISH
X-ORIGINAL-URL:https://www.ekurhulenibowls.co.za
X-WR-CALDESC:Events for Ekurhuleni Bowls
REFRESH-INTERVAL;VALUE=DURATION:PT1H
X-Robots-Tag:noindex
X-PUBLISHED-TTL:PT1H
BEGIN:VTIMEZONE
TZID:Europe/Helsinki
BEGIN:DAYLIGHT
TZOFFSETFROM:+0200
TZOFFSETTO:+0300
TZNAME:EEST
DTSTART:20230326T010000
END:DAYLIGHT
BEGIN:STANDARD
TZOFFSETFROM:+0300
TZOFFSETTO:+0200
TZNAME:EET
DTSTART:20231029T010000
END:STANDARD
BEGIN:DAYLIGHT
TZOFFSETFROM:+0200
TZOFFSETTO:+0300
TZNAME:EEST
DTSTART:20240331T010000
END:DAYLIGHT
BEGIN:STANDARD
TZOFFSETFROM:+0300
TZOFFSETTO:+0200
TZNAME:EET
DTSTART:20241027T010000
END:STANDARD
BEGIN:DAYLIGHT
TZOFFSETFROM:+0200
TZOFFSETTO:+0300
TZNAME:EEST
DTSTART:20250330T010000
END:DAYLIGHT
BEGIN:STANDARD
TZOFFSETFROM:+0300
TZOFFSETTO:+0200
TZNAME:EET
DTSTART:20251026T010000
END:STANDARD
BEGIN:DAYLIGHT
TZOFFSETFROM:+0200
TZOFFSETTO:+0300
TZNAME:EEST
DTSTART:20260329T010000
END:DAYLIGHT
BEGIN:STANDARD
TZOFFSETFROM:+0300
TZOFFSETTO:+0200
TZNAME:EET
DTSTART:20261025T010000
END:STANDARD
END:VTIMEZONE
BEGIN:VEVENT
DTSTART;TZID=Europe/Helsinki:20250621T083000
DTEND;TZID=Europe/Helsinki:20250621T123000
DTSTAMP:20260420T142804
CREATED:20241014T090421Z
LAST-MODIFIED:20241014T090421Z
UID:3912-1750494600-1750509000@www.ekurhulenibowls.co.za
SUMMARY:EKB Academy
DESCRIPTION:
URL:https://www.ekurhulenibowls.co.za/event/ekb-academy-12/
CATEGORIES:EKB Academy
END:VEVENT
BEGIN:VEVENT
DTSTART;TZID=Europe/Helsinki:20250315T083000
DTEND;TZID=Europe/Helsinki:20250315T123000
DTSTAMP:20260420T142804
CREATED:20241014T081023Z
LAST-MODIFIED:20241014T081023Z
UID:3852-1742027400-1742041800@www.ekurhulenibowls.co.za
SUMMARY:EKB Academy
DESCRIPTION:
URL:https://www.ekurhulenibowls.co.za/event/ekb-academy-11/
CATEGORIES:EKB Academy
END:VEVENT
BEGIN:VEVENT
DTSTART;TZID=Europe/Helsinki:20250301T083000
DTEND;TZID=Europe/Helsinki:20250301T123000
DTSTAMP:20260420T142804
CREATED:20241014T075745Z
LAST-MODIFIED:20241014T075745Z
UID:3839-1740817800-1740832200@www.ekurhulenibowls.co.za
SUMMARY:EKB Academy
DESCRIPTION:
URL:https://www.ekurhulenibowls.co.za/event/ekb-academy-10/
CATEGORIES:EKB Academy
END:VEVENT
BEGIN:VEVENT
DTSTART;TZID=Europe/Helsinki:20250215T083000
DTEND;TZID=Europe/Helsinki:20250215T123000
DTSTAMP:20260420T142804
CREATED:20241014T074622Z
LAST-MODIFIED:20241014T074622Z
UID:3823-1739608200-1739622600@www.ekurhulenibowls.co.za
SUMMARY:EKB Academy
DESCRIPTION:
URL:https://www.ekurhulenibowls.co.za/event/ekb-academy-9/
CATEGORIES:EKB Academy
END:VEVENT
BEGIN:VEVENT
DTSTART;TZID=Europe/Helsinki:20250201T083000
DTEND;TZID=Europe/Helsinki:20250201T123000
DTSTAMP:20260420T142804
CREATED:20241014T073839Z
LAST-MODIFIED:20241014T073839Z
UID:3810-1738398600-1738413000@www.ekurhulenibowls.co.za
SUMMARY:EKB Academy
DESCRIPTION:
URL:https://www.ekurhulenibowls.co.za/event/ekb-academy-8/
CATEGORIES:EKB Academy
END:VEVENT
BEGIN:VEVENT
DTSTART;TZID=Europe/Helsinki:20250125T083000
DTEND;TZID=Europe/Helsinki:20250125T123000
DTSTAMP:20260420T142804
CREATED:20241014T071717Z
LAST-MODIFIED:20241014T071717Z
UID:3800-1737793800-1737808200@www.ekurhulenibowls.co.za
SUMMARY:EKB Academy
DESCRIPTION:
URL:https://www.ekurhulenibowls.co.za/event/ekb-academy-7/
CATEGORIES:EKB Academy
END:VEVENT
BEGIN:VEVENT
DTSTART;TZID=Europe/Helsinki:20250111T080000
DTEND;TZID=Europe/Helsinki:20250111T123000
DTSTAMP:20260420T142804
CREATED:20241014T070649Z
LAST-MODIFIED:20241014T070649Z
UID:3787-1736582400-1736598600@www.ekurhulenibowls.co.za
SUMMARY:EKB Academy
DESCRIPTION:
URL:https://www.ekurhulenibowls.co.za/event/ekb-academy-6/
CATEGORIES:EKB Academy
END:VEVENT
BEGIN:VEVENT
DTSTART;TZID=Europe/Helsinki:20241207T083000
DTEND;TZID=Europe/Helsinki:20241207T130000
DTSTAMP:20260420T142804
CREATED:20241014T065755Z
LAST-MODIFIED:20241014T065755Z
UID:3775-1733560200-1733576400@www.ekurhulenibowls.co.za
SUMMARY:EKB Academy
DESCRIPTION:
URL:https://www.ekurhulenibowls.co.za/event/ekb-academy-5/
CATEGORIES:EKB Academy
END:VEVENT
BEGIN:VEVENT
DTSTART;TZID=Europe/Helsinki:20241130T080000
DTEND;TZID=Europe/Helsinki:20241130T123000
DTSTAMP:20260420T142804
CREATED:20241011T101452Z
LAST-MODIFIED:20241126T080204Z
UID:3765-1732953600-1732969800@www.ekurhulenibowls.co.za
SUMMARY:EKB Academy
DESCRIPTION:Note: Canceled 
URL:https://www.ekurhulenibowls.co.za/event/ekb-academy-4/
CATEGORIES:EKB Academy
END:VEVENT
BEGIN:VEVENT
DTSTART;TZID=Europe/Helsinki:20241116T080000
DTEND;TZID=Europe/Helsinki:20241116T123000
DTSTAMP:20260420T142804
CREATED:20241011T095121Z
LAST-MODIFIED:20241011T095121Z
UID:3744-1731744000-1731760200@www.ekurhulenibowls.co.za
SUMMARY:EKB Academy
DESCRIPTION:
URL:https://www.ekurhulenibowls.co.za/event/ekb-academy-3/
CATEGORIES:EKB Academy
END:VEVENT
BEGIN:VEVENT
DTSTART;TZID=Europe/Helsinki:20241026T080000
DTEND;TZID=Europe/Helsinki:20241026T120000
DTSTAMP:20260420T142804
CREATED:20241006T115932Z
LAST-MODIFIED:20241006T115932Z
UID:3697-1729929600-1729944000@www.ekurhulenibowls.co.za
SUMMARY:EKB Academy
DESCRIPTION:
URL:https://www.ekurhulenibowls.co.za/event/ekb-academy-2/
CATEGORIES:EKB Academy
END:VEVENT
BEGIN:VEVENT
DTSTART;TZID=Europe/Helsinki:20241012T080000
DTEND;TZID=Europe/Helsinki:20241012T123000
DTSTAMP:20260420T142804
CREATED:20241006T114416Z
LAST-MODIFIED:20241006T114416Z
UID:3679-1728720000-1728736200@www.ekurhulenibowls.co.za
SUMMARY:EKB Academy
DESCRIPTION:
URL:https://www.ekurhulenibowls.co.za/event/ekb-academy/
CATEGORIES:EKB Academy
END:VEVENT
END:VCALENDAR